BEGIN:VCALENDAR
VERSION:2.0
PRODID:-//Department Of Education//e267a4eb-7110-41c1-b6d0-066933659b9c
BEGIN:VTIMEZONE
TZID:Australia/Sydney
TZURL:http://tzurl.org/zoneinfo-outlook/Australia/Sydney
X-LIC-LOCATION:Australia/Sydney
BEGIN:STANDARD
TZOFFSETFROM:+1100
TZOFFSETTO:+1000
TZNAME:AEST
DTSTART:19700405T030000
RRULE:FREQ=YEARLY;BYMONTH=4;BYDAY=1SU
END:STANDARD
BEGIN:DAYLIGHT
TZOFFSETFROM:+1000
TZOFFSETTO:+1100
TZNAME:AEDT
DTSTART:19701004T020000
RRULE:FREQ=YEARLY;BYMONTH=10;BYDAY=1SU
END:DAYLIGHT
END:VTIMEZONE
CALSCALE:GREGORIAN
X-WR-TIMEZONE:Australia/Sydney
BEGIN:VEVENT
DTSTART;VALUE=DATE:20200309
DTEND;VALUE=DATE:20200313
DTSTAMP:20200309T000000Z
UID:247f2854-d6d5-4814-b6d6-b4f37cff7973
LOCATION:School Library
SUMMARY;LANGUAGE=en-us:Book Fair & Competition 2020
SEQUENCE:0
DESCRIPTION:To celebrate the launch of the Premier?s Reading Challenge we are having a Book Fair in the Library during Week 7. Students will have access to the Book Fair during their Library lesson if it is on a Monday, Tuesday or Wednesday. Book Fair opening times: 8:30am - 3:30pm 9th - 11th March (Monday - Wednesday) 8:30am ONLY on the 12th March (Thursday) - it is picked up during the day Draw and decorate your favourite curious creature! - Students are invited to draw and decorate their favourite curious creature for a chance to win one of 6 $10 vouchers to use at the Book Fair. All entries will need to be completed and handed into the school Library by Thursday Week 6. All creatures will become part of the Library foyer display for the Book Week theme - Curious Creatures, Wild Minds. We?re looking forward to seeing some curious creatures! Parent Volunteers - If you are available to volunteer for the Fair to give a hand or for other Library related activities, please see the School Office for a Parent Volunteer form. 
END:VEVENT
TRANSP:TRANSPARENT
END:VCALENDAR
