BEGIN:VCALENDAR
VERSION:2.0
PRODID:-//Department Of Education//3ad1d8d5-0e56-4c77-b97e-7b8439949135
BEGIN:VTIMEZONE
TZID:Australia/Sydney
TZURL:http://tzurl.org/zoneinfo-outlook/Australia/Sydney
X-LIC-LOCATION:Australia/Sydney
BEGIN:STANDARD
TZOFFSETFROM:+1100
TZOFFSETTO:+1000
TZNAME:AEST
DTSTART:19700405T030000
RRULE:FREQ=YEARLY;BYMONTH=4;BYDAY=1SU
END:STANDARD
BEGIN:DAYLIGHT
TZOFFSETFROM:+1000
TZOFFSETTO:+1100
TZNAME:AEDT
DTSTART:19701004T020000
RRULE:FREQ=YEARLY;BYMONTH=10;BYDAY=1SU
END:DAYLIGHT
END:VTIMEZONE
CALSCALE:GREGORIAN
X-WR-TIMEZONE:Australia/Sydney
BEGIN:VEVENT
DTSTART;TZID=Australia/Sydney:20200304T110000
DTEND;TZID=Australia/Sydney:20200304T143000
DTSTAMP:20200304T000000Z
UID:e655fe66-f1e3-492f-a68c-c9ab177532b3
LOCATION:Greystanes High School
SUMMARY;LANGUAGE=en-us:Greystanes HS Open Day
SEQUENCE:0
DESCRIPTION:Our Year 6 students have been invited to attend Greystanes High School for its Open Day for prospective local Year 7 ? 2021 students, on Wednesday 4 March. We will leave the school at 11:00 and will return by 2:30.  There is no cost for this excursion. The Year 6 students attending will be accompanied by Mrs Cullen and Mrs Willis. Travel will be by bus.  Lunch will be provided by Greystanes High School depending on the session that we attend. Students are required to take their school hat. Please note that information about the open night for parents and families is in the attached note.  Please return the slip below to the School Office by Thursday 20th February, so that numbers can be given to Greystanes High School. 
END:VEVENT
TRANSP:TRANSPARENT
END:VCALENDAR
