BEGIN:VCALENDAR
VERSION:2.0
PRODID:-//Department Of Education//7eb76a23-4ced-4088-ac89-2108241fa836
BEGIN:VTIMEZONE
TZID:Australia/Sydney
TZURL:http://tzurl.org/zoneinfo-outlook/Australia/Sydney
X-LIC-LOCATION:Australia/Sydney
BEGIN:STANDARD
TZOFFSETFROM:+1100
TZOFFSETTO:+1000
TZNAME:AEST
DTSTART:19700405T030000
RRULE:FREQ=YEARLY;BYMONTH=4;BYDAY=1SU
END:STANDARD
BEGIN:DAYLIGHT
TZOFFSETFROM:+1000
TZOFFSETTO:+1100
TZNAME:AEDT
DTSTART:19701004T020000
RRULE:FREQ=YEARLY;BYMONTH=10;BYDAY=1SU
END:DAYLIGHT
END:VTIMEZONE
CALSCALE:GREGORIAN
X-WR-TIMEZONE:Australia/Sydney
BEGIN:VEVENT
DTSTART;TZID=Australia/Sydney:20200310T130000
DTEND;TZID=Australia/Sydney:20200311T140000
DTSTAMP:20200310T000000Z
UID:b7ca3e20-9dd8-492d-82b5-5bcee723f524
LOCATION:Ringrose PS
SUMMARY;LANGUAGE=en-us:Ice Cream Day
SEQUENCE:0
DESCRIPTION:Stage 3 will be holding an ice cream fundraiser with all funds going towards the cost of the Year 6 Farewell Dinner. Kindergarten to Year 2 students can buy a vanilla ice cream in a cone at lunchtime on Tuesday 10 March. Year 3-6 Students can buy a vanilla ice cream in a cone at lunchtime on Wednesday 11 March. Cost: $2.00 Year 6 students would like to thank you for your support.
END:VEVENT
TRANSP:TRANSPARENT
END:VCALENDAR
