BEGIN:VCALENDAR
VERSION:2.0
PRODID:-//Department Of Education//3790d1c0-9dde-4f8f-b11e-9d29cad507b2
BEGIN:VTIMEZONE
TZID:Australia/Sydney
TZURL:http://tzurl.org/zoneinfo-outlook/Australia/Sydney
X-LIC-LOCATION:Australia/Sydney
BEGIN:STANDARD
TZOFFSETFROM:+1100
TZOFFSETTO:+1000
TZNAME:AEST
DTSTART:19700405T030000
RRULE:FREQ=YEARLY;BYMONTH=4;BYDAY=1SU
END:STANDARD
BEGIN:DAYLIGHT
TZOFFSETFROM:+1000
TZOFFSETTO:+1100
TZNAME:AEDT
DTSTART:19701004T020000
RRULE:FREQ=YEARLY;BYMONTH=10;BYDAY=1SU
END:DAYLIGHT
END:VTIMEZONE
CALSCALE:GREGORIAN
X-WR-TIMEZONE:Australia/Sydney
BEGIN:VEVENT
DTSTART;VALUE=DATE:20200309
DTEND;VALUE=DATE:20200310
DTSTAMP:20200309T000000Z
UID:45e23484-1db8-4323-8e9a-c4a641fb0dd5
LOCATION:Ringrose Public School
SUMMARY;LANGUAGE=en-us:Whole School and Class Photos
SEQUENCE:0
DESCRIPTION:Dear Parents and Carers, Our Whole School Photo and Class Photos are taking place on Monday 9th March. As photos are starting at 9:00am, we ask that students arrive at school on time. Students are required to wear their full summer school uniform and black shoes. Each child will receive a personalised payment envelope. Please ensure photo payments are made using this envelope. Payments can be made in two ways: 1)   Online, via credit/debit card through the MSP Photography website. 2)   Cash, using your child?s personalised envelope. Cash payments can be returned to the School Office on or before Monday 9th March, 2020. Please note that no online payments can be made through the School Online Payment Portal.   Family (Sibling) Photos-   If you would like your child/ren to participate in Family (Siblings) Photos, please see the School Office for a Family (Siblings) Photos Envelope.
END:VEVENT
TRANSP:TRANSPARENT
END:VCALENDAR
